BEGIN:VCALENDAR
VERSION:2.0
PRODID:-//ChamberMaster//Event Calendar 2.0//EN
METHOD:PUBLISH
X-PUBLISHED-TTL:P3D
REFRESH-INTERVAL:P3D
CALSCALE:GREGORIAN
BEGIN:VEVENT
DTSTART;VALUE=DATE:20240410
DTEND;VALUE=DATE:20240411
TRANSP:TRANSPARENT
X-MICROSOFT-CDO-ALLDAYEVENT:TRUE
SUMMARY:WINGO (wine + bingo) Wednesdays
DESCRIPTION:Every Wednesday night at 6 PM\, Geneva Winery Bistro & Wine Bar transforms into a lively hub of entertainment with our signature WINGO event - a perfect blend of wine tasting and bingo. We invite you to arrive early to indulge in our exquisite selection of food and wine\, ensuring you secure a seat in what promises to be a packed house. The atmosphere buzzes with anticipation as players vie for the chance to win fantastic prizes throughout the evening. WINGO nights are not just about marking off numbers\; they're a celebration of community\, fine wine\, and the thrill of the game. Join us for an unforgettable evening where every call might bring you closer to victory\, all in the cozy ambiance of our beloved winery.
X-ALT-DESC;FMTTYPE=text/html:<span style="color:rgb(13\, 13\, 13)\; font-family:söhne\,ui-sans-serif\,system-ui\,-apple-system\,segoe ui\,roboto\,ubuntu\,cantarell\,noto sans\,sans-serif\,helvetica neue\,arial\,apple color emoji\,segoe ui emoji\,segoe ui symbol\,noto color emoji\; font-size:16px">Every Wednesday night at 6 PM\, Geneva Winery Bistro &amp\; Wine Bar transforms into a lively hub of entertainment with our signature WINGO event - a perfect blend of wine tasting and bingo. We invite you to arrive early to indulge in our exquisite selection of food and wine\, ensuring you secure a seat in what promises to be a packed house. The atmosphere buzzes with anticipation as players vie for the chance to win fantastic prizes throughout the evening. WINGO nights are not just about marking off numbers\; they&#39\;re a celebration of community\, fine wine\, and the thrill of the game. Join us for an unforgettable evening where every call might bring you closer to victory\, all in the cozy ambiance of our beloved winery.</span>
LOCATION:Geneva Winery Bistro & Wine Bar
UID:e.246.58577
SEQUENCE:3
DTSTAMP:20260420T084156Z
URL:https://members.genevachamber.com/events/details/wingo-wine-bingo-wednesdays-04-10-2024-58577
END:VEVENT

END:VCALENDAR
