BEGIN:VCALENDAR
VERSION:2.0
PRODID:-//ChamberMaster//Event Calendar 2.0//EN
METHOD:PUBLISH
X-PUBLISHED-TTL:P3D
REFRESH-INTERVAL:P3D
CALSCALE:GREGORIAN
BEGIN:VEVENT
DTSTART:20260517T160000Z
DTEND:20260517T200000Z
X-MICROSOFT-CDO-ALLDAYEVENT:FALSE
SUMMARY:Wildlife Baby Shower & Open House
DESCRIPTION:Did you know we care for nearly 3\,000 orphaned and injured animals every year?\n\n\n\n\n\n\n\n\n\n\nYou're invited to our Wildlife Baby Shower & Open House on May 17th from 11am-3pm. It will be held at the Elburn Forest Preserve. Admission to this wonderful event is a gift for the baby animals in our care\, you can check out our wishlists below!\n\nAmazon Registry\n\nWalmart Registry\n\n \n\n\nWildlife Baby Shower   Event Highlights\n\nJoin us for a day of family fun in support of baby wildlife at Anderson Humane!\n\nMeet Our Animal Ambassadors\n\nSay hello to Wanda the Groundhog and Tina the Opossum!\n\nBake Sale\n\nEnjoy sweet treats while supporting wildlife care.\n\nArtisan Market\n\nShop unique\, handmade goods   all proceeds benefit our baby animals.\n\nEducational Activities\n\nDiscover how we care for and release wild animals back into the wild.\n\nAdmission: A gift for baby animals in our care!\n\nCheck out our Facebook Event for more details. \n\n \n\nInterested in being a sponsor for this event? Email Jenn Smiley\, Corporate Partners Manager at jsmiley@ahconnects.org
X-ALT-DESC;FMTTYPE=text/html:<div style="background:50% center / cover no-repeat rgb(248\, 247\, 247)\; border:0px\; padding:0px">\n<div style="background:transparent\; border:0px\; padding:0px">\n<div>\n<div style="background:50% center / cover no-repeat rgb(248\, 247\, 247)\; border:0px\; padding:0px">\n<div style="background:transparent\; border:0px\; padding:0px">Did you know we care for nearly 3\,000 orphaned and injured animals every year?</div>\n</div>\n\n<div style="background:50% center / cover no-repeat rgb(248\, 247\, 247)\; border:0px\; padding:20px 40px">\n<div style="background:transparent\; border:0px\; padding:0px">\n<div style="background:transparent\; border:0px\; padding:0px">\n<div style="background:50% center / cover rgb(255\, 255\, 255)\; border:0px\; padding:54px 0px">\n<div style="background:50% center / cover no-repeat transparent\; border:0px\; padding:27px 0px">\n<div style="background:50% center / cover no-repeat transparent\; border:0px\; margin-left:0px\; margin-right:0px !important\; padding:0px">\n<div>\n<div style="background:transparent\; border:0px\; padding:0px">\n<p>You&rsquo\;re invited to our Wildlife Baby Shower &amp\; Open House on May 17th from 11am-3pm. It will be held at the Elburn Forest Preserve. Admission to this wonderful event is a gift for the baby animals in our care\, you can check out our wishlists below!</p>\n\n<p><a href="https://www.amazon.com/baby-reg/anderson-humane-april-2023-southelgin/3QMIHX1K9TUU4?ref_=cm_sw_r_cp_ud_dp_3FZSX5J5Z2M5EWFG5F5Y" style="box-sizing: border-box\; margin: 0px\; padding: 0px\; border: 0px\; outline: 0px\; text-size-adjust: 100%\; vertical-align: baseline\; background: transparent\; text-decoration-color: rgb(171\, 195\, 128)\; font-weight: 700\; color: rgb(171\, 195\, 128) !important\;">Amazon Registry</a></p>\n\n<p><a href="https://www.walmart.com/registry/BR/1272a75c-3191-4b0d-b997-b6404d7e03a4" style="box-sizing: border-box\; margin: 0px\; padding: 0px\; border: 0px\; outline: 0px\; text-size-adjust: 100%\; vertical-align: baseline\; background: transparent\; text-decoration-color: rgb(171\, 195\, 128)\; font-weight: 700\; color: rgb(171\, 195\, 128) !important\;">Walmart Registry</a></p>\n\n<p>&nbsp\;</p>\n\n<div style="background:transparent\; border:0px\; padding:0px">\n<p><strong>Wildlife Baby Shower &ndash\; Event Highlights</strong><br />\nJoin us for a day of family fun in support of baby wildlife at Anderson Humane!</p>\n\n<p><strong>Meet Our Animal Ambassadors</strong><br />\nSay hello to Wanda the Groundhog and Tina the Opossum!</p>\n\n<p><strong>Bake Sale</strong><br />\nEnjoy sweet treats while supporting wildlife care.</p>\n\n<p><strong>Artisan Market</strong><br />\nShop unique\, handmade goods &mdash\; all proceeds benefit our baby animals.</p>\n\n<p><strong>Educational Activities</strong><br />\nDiscover how we care for and release wild animals back into the wild.</p>\n\n<p><strong>Admission:</strong>&nbsp\;A gift for baby animals in our care!</p>\n\n<p><strong>Check out our&nbsp\;<a href="https://www.facebook.com/share/1AysCsSd3s/" style="box-sizing: border-box\; margin: 0px\; padding: 0px\; border: 0px\; outline: 0px\; text-size-adjust: 100%\; vertical-align: baseline\; background: transparent\; text-decoration-color: rgb(171\, 195\, 128)\; color: rgb(171\, 195\, 128) !important\;">Facebook Event</a>&nbsp\;for more details.&nbsp\;</strong></p>\n\n<p>&nbsp\;</p>\n\n<p><strong>Interested in being a sponsor for this event? Email Jenn Smiley\, Corporate Partners Manager at jsmiley@ahconnects.org</strong></p>\n</div>\n</div>\n</div>\n</div>\n</div>\n</div>\n</div>\n</div>\n</div>\n</div>\n</div>\n</div>\n
LOCATION:Anderson Humane Wildlife Center Elburn Forest Preserve
UID:e.246.81654
SEQUENCE:3
DTSTAMP:20260419T180803Z
URL:https://members.genevachamber.com/events/details/wildlife-baby-shower-open-house-05-17-2026-81654
END:VEVENT

END:VCALENDAR
