BEGIN:VCALENDAR
VERSION:2.0
PRODID:-//ChamberMaster//Event Calendar 2.0//EN
METHOD:PUBLISH
X-PUBLISHED-TTL:P3D
REFRESH-INTERVAL:P3D
CALSCALE:GREGORIAN
BEGIN:VEVENT
DTSTART:20180722T230000Z
DTEND:20180723T010000Z
X-MICROSOFT-CDO-ALLDAYEVENT:FALSE
SUMMARY:Riverpark Summer Series
DESCRIPTION:Grab a lawn chair\, blanket or even bring a picnic dinner to enjoy four free nights of entertainment along the Fox River during the RiverPark Summer Concert Series.  Performing for the first time at RiverPark is the Steel Crazy Steel Band on July 22.  Dave Seagren and his 10-piece Steel Band brings the spirit of the Caribbean Islands to life with tropical musical styles including reggae\, calypso\, socca\, Latin and pop.
X-ALT-DESC;FMTTYPE=text/html:<span style="font-size: 12pt\;"><span style="font-family: calibri\;">Grab a lawn chair\, blanket or even bring a picnic dinner to enjoy four free nights of entertainment along the Fox River during the RiverPark Summer Concert Series.</span></span>&nbsp\; P<span style="font-size: 12pt\;"><span style="font-family: calibri\;">erforming for the first time at RiverPark is the Steel Crazy Steel Band on July 22.&nbsp\; Dave Seagren and his 10-piece Steel Band brings the spirit of the Caribbean Islands to life with tropical musical styles including reggae\, calypso\, socca\, Latin and pop.</span></span><br />\n&nbsp\;
LOCATION:RiverPark located at North River Lane and Peyton Street just north of State Street. The programs\, which take place at the park's stone amphitheater\, are sponsored by the City of Geneva's Cultural Arts Commission. In case of inclement weather\, performances will be moved inside to the Geneva United Methodist Church at 211 Hamilton Street.
UID:e.246.31155
SEQUENCE:3
DTSTAMP:20260422T035527Z
URL:https://members.genevachamber.com/events/details/riverpark-summer-series-31155
END:VEVENT

END:VCALENDAR
