BEGIN:VCALENDAR
VERSION:2.0
PRODID:-//ChamberMaster//Event Calendar 2.0//EN
METHOD:PUBLISH
X-PUBLISHED-TTL:P3D
REFRESH-INTERVAL:P3D
CALSCALE:GREGORIAN
BEGIN:VEVENT
DTSTART;VALUE=DATE:20190630
DTEND;VALUE=DATE:20190701
TRANSP:TRANSPARENT
X-MICROSOFT-CDO-ALLDAYEVENT:TRUE
SUMMARY:One Complimentary Week Trial at Delnor Health & Fitness Center
DESCRIPTION:Visit Delnor Health & Fitness Center\, mention this Chamber of Commerce ad\, receive one complimentary week trial.   See Membership for more details and to begin your complimentary week trial.
X-ALT-DESC;FMTTYPE=text/html:Visit Delnor Health &amp\; Fitness Center\, mention this Chamber of Commerce ad\, receive one&nbsp\;complimentary week trial.&nbsp\;&nbsp\; See Membership for&nbsp\;more details and&nbsp\;to begin your complimentary week trial.&nbsp\;
LOCATION:Delnor Health & Fitness Center 296 Randall Road Geneva\, IL 60134 630-938-9000
UID:e.246.39224
SEQUENCE:3
DTSTAMP:20260420T090240Z
URL:https://members.genevachamber.com/events/details/one-complimentary-week-trial-at-delnor-health-fitness-center-06-30-2019-39224
END:VEVENT

END:VCALENDAR
