BEGIN:VCALENDAR
VERSION:2.0
PRODID:-//ChamberMaster//Event Calendar 2.0//EN
METHOD:PUBLISH
X-PUBLISHED-TTL:P3D
REFRESH-INTERVAL:P3D
CALSCALE:GREGORIAN
BEGIN:VEVENT
DTSTART:20260423T163000Z
DTEND:20260423T170000Z
X-MICROSOFT-CDO-ALLDAYEVENT:FALSE
SUMMARY:Multi Chamber Zoom: Why Your Social Media Isn't Working! (And it's not the Algorithm)
DESCRIPTION:Join us for a multi-chamber zoom learning event. \n\n"Why Yours Social Media is Working (and it's not the Algorithm). This webinar is for business owners who are tired of guessing\, posting randomly\, and wondering why their social media is not effective.
X-ALT-DESC;FMTTYPE=text/html:<span style="font-size:20px\;"><strong>Join us for a multi-chamber zoom learning event.&nbsp\;<br />\n&quot\;Why Yours Social Media is Working (and it&#39\;s not the Algorithm). This webinar is for business owners who are tired of guessing\, posting randomly\, and wondering why their social media is not effective.</strong></span>
LOCATION:Zoom webinar. You will need to register to get the zoom credentials.
UID:e.246.81053
SEQUENCE:3
DTSTAMP:20260421T082932Z
URL:https://members.genevachamber.com/events/details/multi-chamber-zoom-why-your-social-media-isn-t-working-and-it-s-not-the-algorithm-81053
END:VEVENT

END:VCALENDAR
