BEGIN:VCALENDAR
VERSION:2.0
PRODID:-//ChamberMaster//Event Calendar 2.0//EN
METHOD:PUBLISH
X-PUBLISHED-TTL:P3D
REFRESH-INTERVAL:P3D
CALSCALE:GREGORIAN
BEGIN:VEVENT
DTSTART:20250313T220000Z
DTEND:20250314T000000Z
X-MICROSOFT-CDO-ALLDAYEVENT:FALSE
SUMMARY:Multi Chamber Networking Event - Pickleball Mixer
DESCRIPTION:Join eleven other Fox Valley Chambers for a night of fun\, food\, and Pickleball instruction.
X-ALT-DESC;FMTTYPE=text/html:Join eleven other Fox Valley Chambers for a night of fun\, food\, and Pickleball instruction.&nbsp\;
LOCATION:Pickle Haus 1621 Randall Rd. Algonquin
UID:e.246.59371
SEQUENCE:3
DTSTAMP:20260421T085400Z
URL:https://members.genevachamber.com/events/details/multi-chamber-networking-event-pickleball-mixer-59371
END:VEVENT

END:VCALENDAR
