BEGIN:VCALENDAR
VERSION:2.0
PRODID:-//ChamberMaster//Event Calendar 2.0//EN
METHOD:PUBLISH
X-PUBLISHED-TTL:P3D
REFRESH-INTERVAL:P3D
CALSCALE:GREGORIAN
BEGIN:VEVENT
DTSTART;VALUE=DATE:20250511
DTEND;VALUE=DATE:20250512
TRANSP:TRANSPARENT
X-MICROSOFT-CDO-ALLDAYEVENT:TRUE
SUMMARY:Mother's Day Brunch at Prairie Landing
DESCRIPTION:Celebrate the moms in your life with Prairie Landing Golf Club at our Mother's Day Brunch on Sunday\, May 11th! Seating times are at 10:00 AM\, 10:30 AM\, 12:30 PM\, and 1:00 PM\n\nReservations are required by 5/5/2025 by calling 630.208.7641 Monday   Friday 10AM to 6PM. (Please leave a message and we will return your call as soon as possible.)\n\nPrices below include service charge\, tax\, coffee\, and hot tea   all other beverages are available for purchase\n\nAdults: $57\n\nChildren (4-13): $29\n\nChildren Under 4: Free\n\nMember Pricing   Adult: $46.50 and Children (4-13): $26.50 (Member Pricing valid for member plus 3 guests)\n\nEnjoy an elegant brunch menu created by our Executive chef!\n\nOmelet & Carving Stations\n\nBreakfast & Lunch Favorites\n\nFresh Seafood Station\n\nKids Buffet and much more!\n\n$18 Bottomless Mimosas\, Bloody Mary's\, and Aperol Spritz\n\n*Credit card required for reservation. Cancellations or modifications must be made before 5/8 as all payments will be processed prior to the event.
X-ALT-DESC;FMTTYPE=text/html:<p style="margin-left:0px\; margin-right:0px">Celebrate the moms in your life with Prairie Landing Golf Club at our Mother&rsquo\;s Day Brunch on Sunday\, May 11th! Seating times are at 10:00 AM\, 10:30 AM\, 12:30 PM\, and 1:00 PM</p>\n\n<p style="margin-left:0px\; margin-right:0px">Reservations are required by 5/5/2025 by calling 630.208.7641 Monday &ndash\; Friday 10AM to 6PM.&nbsp\;<em>(Please leave a message and we will return your call as soon as possible.)</em></p>\n\n<p style="margin-left:0px\; margin-right:0px">Prices below include service charge\, tax\, coffee\, and hot tea &ndash\; all other beverages are available for purchase<br />\nAdults: $57<br />\nChildren (4-13): $29<br />\nChildren Under 4: Free</p>\n\n<p style="margin-left:0px\; margin-right:0px">Member Pricing &ndash\; Adult: $46.50 and Children (4-13): $26.50 (<em>Member Pricing valid for member plus 3 guests)</em></p>\n\n<p style="margin-left:0px\; margin-right:0px">Enjoy an elegant brunch menu created by our Executive chef!<br />\nOmelet &amp\; Carving Stations<br />\nBreakfast &amp\; Lunch Favorites<br />\nFresh Seafood Station<br />\nKids Buffet and much more!</p>\n\n<p style="margin-left:0px\; margin-right:0px"><em>$18 Bottomless Mimosas\, Bloody Mary&rsquo\;s\, and Aperol Spritz</em></p>\n\n<p style="margin-left:0px\; margin-right:0px">*Credit card required for reservation. Cancellations or modifications must be made before 5/8 as all payments will be processed prior to the event.</p>\n
LOCATION:Prairie Landing Golf Club\, 2325 Longest Drive\, West Chicago\, IL 60185
UID:e.246.60011
SEQUENCE:3
DTSTAMP:20260421T083325Z
URL:https://members.genevachamber.com/events/details/mother-s-day-brunch-at-prairie-landing-05-11-2025-60011
END:VEVENT

END:VCALENDAR
