BEGIN:VCALENDAR
VERSION:2.0
PRODID:-//ChamberMaster//Event Calendar 2.0//EN
METHOD:PUBLISH
X-PUBLISHED-TTL:P3D
REFRESH-INTERVAL:P3D
CALSCALE:GREGORIAN
BEGIN:VEVENT
DTSTART:20241206T013000Z
DTEND:20241208T050000Z
X-MICROSOFT-CDO-ALLDAYEVENT:FALSE
SUMMARY:John DiResta
DESCRIPTION:Join us December 5-7 for an unforgettable evening with John DiResta\, the former NYC cop turned comedian and actor. Known for his UPN sitcom and roles in films like Miss Congeniality\, How to Lose a Guy in 10 Days\, and 15 Minutes\, John has shared the screen with legends such as Robert De Niro\, Sandra Bullock\, and Michael Caine. Don't miss this chance to see the "real deal" deliver his wildly funny stand-up live. Get ready for a night of laughter!
X-ALT-DESC;FMTTYPE=text/html:<p>Join us December 5-7 for an unforgettable evening with John DiResta\, the former NYC cop turned comedian and actor. Known for his UPN sitcom and roles in films like Miss Congeniality\, How to Lose a Guy in 10 Days\, and 15 Minutes\, John has shared the screen with legends such as Robert De Niro\, Sandra Bullock\, and Michael Caine. Don&#39\;t miss this chance to see the &quot\;real deal&quot\; deliver his wildly funny stand-up live. Get ready for a night of laughter!</p>\n\n<div>&nbsp\;</div>\n\n<p>&nbsp\;</p>\n\n<p>&nbsp\;</p>\n
LOCATION:The Comedy Vault 18 E Wilson St Batavia IL 60510
UID:e.246.59424
SEQUENCE:3
DTSTAMP:20260423T105930Z
URL:https://members.genevachamber.com/events/details/matt-braunger-59424
END:VEVENT

END:VCALENDAR
