BEGIN:VCALENDAR
VERSION:2.0
PRODID:-//ChamberMaster//Event Calendar 2.0//EN
METHOD:PUBLISH
X-PUBLISHED-TTL:P3D
REFRESH-INTERVAL:P3D
CALSCALE:GREGORIAN
BEGIN:VEVENT
DTSTART:20260403T003000Z
DTEND:20260405T040000Z
X-MICROSOFT-CDO-ALLDAYEVENT:FALSE
SUMMARY:Ian Edwards Stand Up Comedy LIVE @ The Comedy Vault!
DESCRIPTION:See Ian Edwards LIVE at The Comedy Vault in Batavia from April 2-4\, 2026\n\nIan Edwards is a stand-up comedian\, actor\, and writer\, recognized for his sharp wit\, dark humor\, and provocative content. He has made several appearances on The Joe Rogan Experience\, Kill Tony\, and Don't Tell Comedy. During his appearances on TigerBelly\, hosted by Bobby Lee\, Ian discussed comedy and shared his experiences in the industry. He also hosts The Soccer Comic Rant on the All Things Comedy Network\, where he discusses soccer (football) with a comedic twist. Ian has appeared on Ari Shaffir's Skeptic Tank\, sharing insights into his life and comedy career\, and on The Comedy Store Podcast\, which delves into the history and stories of The Comedy Store in Los Angeles. Additionally\, he was featured in the U.S. edition of Comedians of the World on Netflix.\n\nIan released a stand-up special titled IanTalk: Ideas Not Worth Spreading on Comedy Central\, produced by Bill Burr. His television appearances include multiple spots on Conan\, Bill Burr's Friends Who Kill on Netflix\, and Friends From College on Netflix. He was also a cast member in the acclaimed film Tangerine and appeared on Punk'd. He was featured as a performer on Comedy Central's The New Negroes\, HBO's Bad Boys of Comedy\, and 1st Amendment Stand Up with Martin Lawrence.\n\nIan's writing credits include Co-Executive Producer of Survival of the Thickest (Netflix)\, Supervising Producer on The Last O.G.\, and Executive Story Editor on Crashing\, an HBO series about the life of a struggling comedian in New York. He also wrote for Undercover Brother 2\, Black-ish\, 2 Broke Girls\, and served as Co-Producer on Friends From College (Netflix) and Consulting Producer on The Carmichael Show. His additional writing work includes Black Dynamite\, Dogg After Dark\, Saturday Night Live\, The Boondocks\, Chocolate News (Comedy Central)\, and The Big House (with Kevin Hart). He is also a regular on the comedy circuit\, performing at clubs and festivals across the country. Ian's style often tackles challenging social issues with a biting\, no-holds-barred approach\, making him a unique voice in the comedy world.\n\n\n\nCHECK OUT IAN EDWARDS HERE\n\n \n\nThis show is 21+. All persons attending this show are required to show a valid government ID. All Sales are Final. We do not allow refunds\, exchanges\, transfers\, or 3rd party tickets. The original ticket holder must be present to gain access to our club\, and their name on their ID must match the name on their tickets.
X-ALT-DESC;FMTTYPE=text/html:<p><a href="https://www.comedyvaultbatavia.com/events/132341"><strong><span style="font-size:16px">See Ian Edwards LIVE at The Comedy Vault in Batavia from April 2-4\, 2026</span></strong></a></p>\n\n<p><a href="https://youtu.be/hKfqIpIGG-Y"><strong>Ian Edwards</strong></a>&nbsp\;is a stand-up comedian\, actor\, and writer\, recognized for his sharp wit\, dark humor\, and provocative content. He has made several appearances on&nbsp\;<em>The Joe Rogan Experience</em>\,&nbsp\;<em>Kill Tony</em>\, and&nbsp\;<em>Don&rsquo\;t Tell Comedy</em>. During his appearances on&nbsp\;<em>TigerBelly</em>\, hosted by Bobby Lee\, Ian discussed comedy and shared his experiences in the industry. He also hosts&nbsp\;<em>The Soccer Comic Rant</em>&nbsp\;on the All Things Comedy Network\, where he discusses soccer (football) with a comedic twist. Ian has appeared on&nbsp\;<em>Ari Shaffir&rsquo\;s Skeptic Tank</em>\, sharing insights into his life and comedy career\, and on&nbsp\;<em>The Comedy Store Podcast</em>\, which delves into the history and stories of The Comedy Store in Los Angeles. Additionally\, he was featured in the U.S. edition of&nbsp\;<em>Comedians of the World</em>&nbsp\;on Netflix.</p>\n\n<p>Ian released a stand-up special titled&nbsp\;<em>IanTalk: Ideas Not Worth Spreading</em>&nbsp\;on Comedy Central\, produced by Bill Burr. His television appearances include multiple spots on&nbsp\;<em>Conan</em>\, Bill Burr&rsquo\;s&nbsp\;<em>Friends Who Kill</em>&nbsp\;on Netflix\, and&nbsp\;<em>Friends From College</em>&nbsp\;on Netflix. He was also a cast member in the acclaimed film&nbsp\;<em>Tangerine</em>&nbsp\;and appeared on&nbsp\;<em>Punk&rsquo\;d</em>. He was featured as a performer on Comedy Central&#39\;s&nbsp\;<em>The New Negroes</em>\, HBO&rsquo\;s&nbsp\;<em>Bad Boys of Comedy</em>\, and&nbsp\;<em>1st Amendment Stand Up</em>&nbsp\;with Martin Lawrence.</p>\n\n<p>Ian&#39\;s writing credits include Co-Executive Producer of&nbsp\;<em>Survival of the Thickest</em>&nbsp\;(Netflix)\, Supervising Producer on&nbsp\;<em>The Last O.G.</em>\, and Executive Story Editor on&nbsp\;<em>Crashing</em>\, an HBO series about the life of a struggling comedian in New York. He also wrote for&nbsp\;<em>Undercover Brother 2</em>\,&nbsp\;<em>Black-ish</em>\,&nbsp\;<em>2 Broke Girls</em>\, and served as Co-Producer on&nbsp\;<em>Friends From College</em>&nbsp\;(Netflix) and Consulting Producer on&nbsp\;<em>The Carmichael Show</em>. His additional writing work includes&nbsp\;<em>Black Dynamite</em>\,&nbsp\;<em>Dogg After Dark</em>\,&nbsp\;<em>Saturday Night Live</em>\,&nbsp\;<em>The Boondocks</em>\,&nbsp\;<em>Chocolate News</em>&nbsp\;(Comedy Central)\, and&nbsp\;<em>The Big House</em>&nbsp\;(with Kevin Hart). He is also a regular on the comedy circuit\, performing at clubs and festivals across the country. Ian&rsquo\;s style often tackles challenging social issues with a biting\, no-holds-barred approach\, making him a unique voice in the comedy world.</p>\n\n<p><br />\n<a href="https://youtu.be/hKfqIpIGG-Y"><strong>CHECK OUT IAN EDWARDS HERE</strong></a><br />\n&nbsp\;</p>\n\n<div><strong>This show is 21+. All persons attending this show are required to show a valid government ID.&nbsp\;</strong><strong>All Sales are Final. We do not allow refunds\, exchanges\, transfers\, or 3rd party tickets.&nbsp\;</strong><strong>The original ticket holder must be present to gain access to our club\, and their name on their ID must match the name on their tickets.</strong></div>\n
LOCATION:The Comedy Vault 18 E. Wilson Street\, Batavia\, IL 60510
UID:e.246.81793
SEQUENCE:3
DTSTAMP:20260425T162105Z
URL:https://members.genevachamber.com/events/details/ian-edwards-stand-up-comedy-live-the-comedy-vault-81793
END:VEVENT

END:VCALENDAR
