BEGIN:VCALENDAR
VERSION:2.0
PRODID:-//ChamberMaster//Event Calendar 2.0//EN
METHOD:PUBLISH
X-PUBLISHED-TTL:P3D
REFRESH-INTERVAL:P3D
CALSCALE:GREGORIAN
BEGIN:VEVENT
DTSTART:20190716T163000Z
DTEND:20190716T180000Z
X-MICROSOFT-CDO-ALLDAYEVENT:FALSE
SUMMARY:GWIB Luncheon - Techniques for Growing the Small Business: Growing Revenue
DESCRIPTION:Due to unexpected changes\, we are changing the format for this luncheon.  We will be having Tom Gray and Louis Dries of SCORE speak to GWIB on "Techniques for Growing the Small Business Module 10:  Growing Revenue."\n\n\n\n For over 50 years\, SCORE has served as America's premier source of free business mentoring and education.\n\n\n\nAs a resource partner of the U.S. Small Business Administration (SBA)\, SCORE has helped more than 11 million entrepreneurs through mentoring\, workshops and educational resources since 1964.\n\n\n\nLunch will include a buffet of various salad choices including caesar\, mixed greens with either grilled chicken breast and salmon and watermelon salad.  Also included is tortellini with a pesto cream sauce\, rolls and dessert
X-ALT-DESC;FMTTYPE=text/html:<span style="font-size:16px\;"><span style="font-family:arial\;">Due to unexpected changes\, we are changing the format for this luncheon.&nbsp\; We will be having Tom Gray and Louis Dries of SCORE speak to GWIB on &quot\;Techniques for Growing the Small Business Module 10:&nbsp\; Growing Revenue.&quot\;<br />\n<br />\n&nbsp\;<span style="color: rgb(20\, 20\, 20)\; orphans: 3\; widows: 3\; background-color: rgb(255\, 255\, 255)\;">For over 50 years\, SCORE has served as America&rsquo\;s premier source of free business mentoring and education.</span></span><br style="box-sizing: border-box\; color: rgb(20\, 20\, 20)\; font-family: &quot\;Gotham SSm A&quot\;\, &quot\;Gotham SSm B&quot\;\, sans-serif\; font-size: 16px\; orphans: 3\; widows: 3\; background-color: rgb(255\, 255\, 255)\;" />\n<br style="box-sizing: border-box\; color: rgb(20\, 20\, 20)\; font-family: &quot\;Gotham SSm A&quot\;\, &quot\;Gotham SSm B&quot\;\, sans-serif\; font-size: 16px\; orphans: 3\; widows: 3\; background-color: rgb(255\, 255\, 255)\;" />\n<span style="font-family:arial\;"><span style="color: rgb(20\, 20\, 20)\; orphans: 3\; widows: 3\; background-color: rgb(255\, 255\, 255)\;">As a resource partner of the U.S. Small Business Administration (SBA)\, SCORE has helped more than 11 million entrepreneurs through mentoring\, workshops and educational resources since 1964.</span><br />\n<br />\nLunch will include a buffet of various salad choices including caesar\, mixed greens with either grilled chicken breast and salmon and watermelon salad.&nbsp\; Also included is tortellini with a pesto cream sauce\, rolls and dessert</span></span>
LOCATION:Riverside Receptions 35 N. River Lane Geneva\, IL 60134
UID:e.246.40168
SEQUENCE:3
DTSTAMP:20260421T100630Z
URL:https://members.genevachamber.com/events/details/gwib-luncheon-techniques-for-growing-the-small-business-growing-revenue-40168
END:VEVENT

END:VCALENDAR
