BEGIN:VCALENDAR
VERSION:2.0
PRODID:-//ChamberMaster//Event Calendar 2.0//EN
METHOD:PUBLISH
X-PUBLISHED-TTL:P3D
REFRESH-INTERVAL:P3D
CALSCALE:GREGORIAN
BEGIN:VEVENT
DTSTART:20170321T163000Z
DTEND:20170321T180000Z
X-MICROSOFT-CDO-ALLDAYEVENT:FALSE
SUMMARY:GWIB Luncheon - Hotel Baker
DESCRIPTION:Speaker: Valerie Beck\, Chocolate Uplift\n\nValerie is a chocolate consultant\, broker\, and speaker\, as well as a cheerful and engaging media personality. She will be speaking on her successes and downfalls in business and how it has helped to create the entrepreneur she is today.\n\n\n\nMenu:\n\nPacific Rim Salad  (Gluten free available or no chicken for those who request it) Grilled Chicken\, Napa Cabbage\, Almonds\, Sesame\, Wonton Crisps\, Enoki Mushrooms\, East Asian Vegetables\, Rice Wine-Ginger Vinaigrette\nOr\n\nChicken salad jumbo croissant with diced fruits and berries\n\n \n\nSoup: Loaded Baked Potato \n\nDessert: Flight of Fancy - a trio of the chef's favorite seasonal items\n\nRolls and butter\n\nColombian coffees and Mighty Leaf teas\n\n\nOur March "Chance-for-Charity" will be Geneva Garden Club \n\nThe Geneva Garden Club was founded in the fall of 1928 and is affiliated with the Garden Clubs of Illinois. Over its 85 plus years of existence its goals have remained the same: beautification of the community\, preservation of our natural environment\, and the promotion of horticultural education. The club and its members have undertaken many projects over the years to further these goals. Some of the projects have included: beautification of Geneva in conjunction with the Geneva Beautification Committee and the Geneva Public Library\; offering the Geneva Garden Club Scholarship to Geneva residents to support their continuing education in horticulture\, landscaping\, or a closely related field\; support for the restoration and preservation of the Japanese Garden located in the Fabyan Forest Preserve\; donation of trees to the Geneva Park District and the City of Geneva\; and the design and maintenance of the Geneva Garden Park for the enjoyment of the community.
X-ALT-DESC;FMTTYPE=text/html:<div><strong><font face="Verdana">Speaker: Valerie Beck\, Chocolate Uplift</font></strong><br />\n<font face="Verdana">Valerie is a chocolate consultant\, broker\, and speaker\, as well as a cheerful and engaging media personality. She will be speaking on her successes and downfalls in business and how it has helped to create the entrepreneur she is today.</font><br />\n<br />\n<strong>Menu:</strong><br />\n<span style="font-family: verdana\;"><span style="font-size: 12px\;"><strong>Pacific Rim Salad </strong>&nbsp\;(Gluten free available or no chicken for those who request it) </span></span><span style="font-family: verdana\;"><span style="font-size: 12px\;">Grilled Chicken\, Napa Cabbage\, Almonds\, Sesame\, Wonton Crisps\, Enoki Mushrooms\, East Asian Vegetables\, Rice Wine-Ginger Vinaigrette</span></span>\n<p style="margin: 0in 0in 0pt\;"><span style="font-family: verdana\;"><span style="font-size: 12px\;"><strong>Or</strong><br />\n<strong>Chicken salad jumbo croissant</strong> with diced fruits and berries</span></span></p>\n\n<p style="margin: 0in 0in 0pt\;"><span style="font-family: verdana\;"><span style="font-size: 12px\;">&nbsp\;</span></span></p>\n\n<p style="margin: 0in 0in 0pt\;"><span style="font-family: verdana\;"><span style="font-size: 12px\;">Soup: Loaded Baked Potato </span></span></p>\n\n<p style="margin: 0in 0in 0pt\;"><span style="font-family: verdana\;"><span style="font-size: 12px\;">Dessert:&nbsp\;Flight of Fancy - a trio of the chef&rsquo\;s favorite seasonal items</span></span></p>\n\n<p style="margin: 0in 0in 0pt\;"><span style="font-family: verdana\;"><span style="font-size: 12px\;">Rolls and butter</span></span></p>\n\n<p style="margin: 0in 0in 0pt\;"><span style="font-family: verdana\;"><span style="font-size: 12px\;">Colombian coffees and Mighty Leaf teas</span></span></p>\n</div>\n\n<div><span style="font-size: 12px\;"><span style="font-family: verdana\;"><strong>Our&nbsp\;March &quot\;Chance-for-Charity&quot\;</strong> will be&nbsp\;<strong>Geneva Garden Club </strong></span></span><br />\nThe Geneva Garden Club was founded in the fall of 1928 and is affiliated with the Garden Clubs of Illinois. Over its 85 plus years of existence its goals have remained the same: beautification of the community\, preservation of our natural environment\, and the promotion of horticultural education. The club and its members have undertaken many projects over the years to further these goals. Some of the projects have included: beautification of Geneva in conjunction with the Geneva Beautification Committee and the Geneva Public Library\; offering the Geneva Garden Club Scholarship to Geneva residents to support their continuing education in horticulture\, landscaping\, or a closely related field\; support for the restoration and preservation of the Japanese Garden located in the Fabyan Forest Preserve\; donation of trees to the Geneva Park District and the City of Geneva\; and the design and maintenance of the Geneva Garden Park for the enjoyment of the community.</div>\n
LOCATION:Hotel Baker 100 W. Main St. St. Charles\, IL 60174
UID:e.246.27256
SEQUENCE:3
DTSTAMP:20260420T102831Z
URL:https://members.genevachamber.com/events/details/gwib-luncheon-hotel-baker-27256
END:VEVENT

END:VCALENDAR
