BEGIN:VCALENDAR
VERSION:2.0
PRODID:-//ChamberMaster//Event Calendar 2.0//EN
METHOD:PUBLISH
X-PUBLISHED-TTL:P3D
REFRESH-INTERVAL:P3D
CALSCALE:GREGORIAN
BEGIN:VEVENT
DTSTART:20260206T170000Z
DTEND:20260206T190000Z
X-MICROSOFT-CDO-ALLDAYEVENT:FALSE
SUMMARY:Galentine's Afternoon Tea
DESCRIPTION:Grab a "Gal" friend and Join us for an afternoon of sisterhood & shopping\n\n\n\n \n\n$40 per person\n\n(ticket price includes lunch\, goody bag\, $10 shopping coupon to the little traveler & donation to Lazarus house)\n\nSpecial Raffles & Door prizes for those dazzling in pink or red\n\n(cash or zelle payments accepted for raffles) \n\nRegister Online
X-ALT-DESC;FMTTYPE=text/html:<p><strong>Grab a &ldquo\;Gal&rdquo\; friend and Join us&nbsp\;for an afternoon of sisterhood &amp\; shopping</strong><br />\n<br />\n&nbsp\;</p>\n\n<p><strong>$40 per person</strong></p>\n\n<p>(ticket price includes lunch\, goody bag\, $10 shopping coupon to the little traveler &amp\; donation to Lazarus house)</p>\n\n<p><strong>Special Raffles &amp\; Door prizes for those&nbsp\;</strong><strong>dazzling in </strong><strong>pink</strong><strong> or </strong><strong>red</strong></p>\n\n<p>(cash or zelle payments accepted for raffles)<strong> </strong></p>\n\n<p>Register Online</p>\n
LOCATION:The Little Traveler
UID:e.246.81042
SEQUENCE:3
DTSTAMP:20260421T085819Z
URL:https://members.genevachamber.com/events/details/galentine-s-afternoon-tea-02-06-2026-81042
END:VEVENT

END:VCALENDAR
