BEGIN:VCALENDAR
VERSION:2.0
PRODID:-//ChamberMaster//Event Calendar 2.0//EN
METHOD:PUBLISH
X-PUBLISHED-TTL:P3D
REFRESH-INTERVAL:P3D
CALSCALE:GREGORIAN
BEGIN:VEVENT
DTSTART:20210618T213000Z
DTEND:20210619T003000Z
X-MICROSOFT-CDO-ALLDAYEVENT:FALSE
SUMMARY:Friday Fish Fry at Prairie Landing Golf Club
DESCRIPTION:Join us at Prairie Landing Golf Club every Friday from 4:30-7:30 pm for our all you can eat Fish Fry. Menu to include house salad\, choice of beer-battered cod\, baked tilapia or pepper & egg sandwich\, French fries & coleslaw. Reservations recommended but not required. Questions\, call Erin at 630.208.7633
X-ALT-DESC;FMTTYPE=text/html:<span style="font-family:arial\,sans-serif\; font-size:10pt">Join us at Prairie Landing Golf Club every Friday from 4:30-7:30 pm for our all you can eat Fish Fry. Menu to include house salad\, choice of beer-battered cod\, baked tilapia or pepper &amp\; egg sandwich\, French fries &amp\; coleslaw. Reservations&nbsp\;</span><span style="font-family:arial\,sans-serif\; font-size:10pt">recommended&nbsp\;but not required. Questions\, call Erin at 630.208.7633</span>
LOCATION:Prairie Landing Golf Club 2325 Longest Drive West Chicago\, IL 60185 630.208.7633
UID:e.246.42347
SEQUENCE:3
DTSTAMP:20260421T100727Z
URL:https://members.genevachamber.com/events/details/friday-fish-fry-at-prairie-landing-golf-club-06-18-2021-42347
END:VEVENT

END:VCALENDAR
