BEGIN:VCALENDAR
VERSION:2.0
PRODID:-//ChamberMaster//Event Calendar 2.0//EN
METHOD:PUBLISH
X-PUBLISHED-TTL:P3D
REFRESH-INTERVAL:P3D
CALSCALE:GREGORIAN
BEGIN:VEVENT
DTSTART:20191027T180000Z
DTEND:20191027T210000Z
X-MICROSOFT-CDO-ALLDAYEVENT:FALSE
SUMMARY:Fall Fest
DESCRIPTION:Annual free event features hay bale maze\, pumpkin painting\, games and giveaways\n\n \n\nThe Green gathering area at Geneva Commons will be transformed into an autumnal landscape in readiness for frightful fun at the annual Fall Fest event on Sunday\, Oct. 27\, from 1:00 p.m. to 4:00 p.m. \n\nAttendees are encouraged to come in costume to the free family event\, which is open to the public. According to Cathy Charhut\, property manager of the open-air shopping center\, "Fall Fest has become one of the most popular events of the year\, and it's safer and more fun than trick or treat." \n\nFall Fest will feature games\, prizes\, music\, treats\, raffles\, a hay bale maze with live scarecrow and plenty of great photo opportunities. "We have some exciting new things planned for this year\," says Charhut. "It'll be the best one yet."\n\nPlanned activities include: Hay bale maze ? Pumpkin painting ? Cornhole games ? Giant inflatable pumpkin ? Face painters ? Balloon artists ? Costumed characters ? DJ music ? Dance program ? Hot chocolate & snacks ? Trick or treat bags \n\nMs. Charhut says that new games\, activities and treats have been added this year. "We kept all the popular games from last time and found some really great new ones\," she says. "And we're excited that students from the nearby Dreams Dance Academy will do a performance\, followed by a Halloween inspired dance lesson." \n\nAdditional details and updates about Fall Fest and other upcoming events at Geneva Commons can be found at www.shopgenevacommons.com or on the center's Facebook page at facebook.com/genevacommons.\n\n \n\nGeneva Commons is located on Randall Road at Williamsburg Avenue in Geneva\, Illinois. The lifestyle center features a wide selection of stores and restaurants\, including Sephora\, MAC\, Chico's\, Talbots\, Crate & Barrel\,  Williams-Sonoma\, Pottery Barn\, H&M\, Dick's Sporting Goods and over 70 specialty shops and dining options. For more information\, please contact Cathy Charhut at 630-262-0044 or ccharhut@midamericagrp.com.\n\nPhotos from Fall Fest 2018:\n\nhttps://shopgenevacommons.com/wp-content/uploads/2019/09/FF2018_pumpkin-painting.jpg\n\n \n\nhttps://shopgenevacommons.com/wp-content/uploads/2019/09/FF2018_sad-dinosaur.jpg\n\n \n\nWEB LINK:\n\nwww.ShopGenevaCommons.com\n\n \n\n \n\nPRESS CONTACT representing Geneva Commons\n\n     Kasia Yuska\n\n     kyuska@dodier.com\n\n     DODIER & COMPANY \n\n     (800) 970-7392 or (520) 299-1000
X-ALT-DESC;FMTTYPE=text/html:<em><span style="font-size: 13pt\;">Annual free event features hay bale maze\, pumpkin painting\, games and giveaways</span></em><br />\n&nbsp\;<br />\n<span style="font-size: 11pt\;">The Green gathering area at Geneva Commons will be transformed into an autumnal landscape in readiness for frightful fun at the annual <span style="color: rgb(31\, 73\, 125)\;"><a href="https://shopgenevacommons.com/portfolio-items/fall-fest/?portfolioCats=4">Fall Fest</a></span> event on Sunday\, Oct. 27\, from 1:00 p.m. to 4:00 p.m. </span><br />\n<span style="font-size: 11pt\;">Attendees are encouraged to come in costume to the free family event\, which is open to the public. According to Cathy Charhut\, property manager of the open-air shopping center\, &ldquo\;Fall Fest has become one of the most popular events of the year\, and it&rsquo\;s safer and more fun than trick or treat.&rdquo\; </span><br />\n<span style="font-size: 11pt\;">Fall Fest will feature games\, prizes\, music\, treats\, raffles\, a hay bale maze with live scarecrow and plenty of great photo opportunities. &ldquo\;We have some exciting new things planned for this year\,&rdquo\; says Charhut. &ldquo\;It&rsquo\;ll be the best one yet.&rdquo\;</span><br />\n<span style="font-size: 11pt\;">Planned activities include: <strong>Hay bale maze </strong></span><strong><span><span style="font-size: 11pt\;">?</span></span></strong><strong><span style="font-size: 11pt\;"> Pumpkin painting </span></strong><strong><span><span style="font-size: 11pt\;">?</span></span></strong><strong><span style="font-size: 11pt\;"> Cornhole games </span></strong><strong><span><span style="font-size: 11pt\;">?</span></span></strong><strong><span style="font-size: 11pt\;"> Giant inflatable pumpkin </span></strong><strong><span><span style="font-size: 11pt\;">?</span></span></strong><strong><span style="font-size: 11pt\;"> Face painters </span></strong><strong><span><span style="font-size: 11pt\;">?</span></span></strong><strong><span style="font-size: 11pt\;"> Balloon artists </span></strong><strong><span><span style="font-size: 11pt\;">?</span></span></strong><strong><span style="font-size: 11pt\;"> Costumed characters </span></strong><strong><span><span style="font-size: 11pt\;">?</span></span></strong><strong><span style="font-size: 11pt\;"> DJ music </span></strong><strong><span><span style="font-size: 11pt\;">?</span></span></strong><strong><span style="font-size: 11pt\;"> Dance program </span></strong><strong><span><span style="font-size: 11pt\;">?</span></span></strong><strong><span style="font-size: 11pt\;"> Hot chocolate &amp\; snacks </span></strong><strong><span><span style="font-size: 11pt\;">?</span></span></strong><strong><span style="font-size: 11pt\;"> Trick or treat bags </span></strong><br />\n<span style="font-size: 11pt\;">Ms. Charhut says that new games\, activities and treats have been added this year. &ldquo\;We kept all the popular games from last time and found some really great new ones\,&rdquo\; she says. &ldquo\;And we&rsquo\;re excited that students from the nearby Dreams Dance Academy will do a performance\, followed by a Halloween inspired dance lesson.&rdquo\; </span><br />\n<span style="font-size: 11pt\;">Additional details and updates about Fall Fest and other upcoming events at Geneva Commons can be found at <a href="http://www.shopgenevacommons.com">www.shopgenevacommons.com</a> or on the center&rsquo\;s Facebook page at <a href="http://www.facebook.com/genevacommons">facebook.com/genevacommons</a>.</span><br />\n&nbsp\;<br />\n<strong><em><span style="font-family: times new roman\,serif\;">Geneva Commons</span></em></strong><em><span style="font-family: times new roman\,serif\;"> is located on Randall Road at Williamsburg Avenue in Geneva\, Illinois. The lifestyle center features a wide selection of stores and restaurants\, including Sephora\, MAC\, Chico&rsquo\;s\, Talbots\, Crate &amp\; Barrel\,&nbsp\; Williams-Sonoma\, Pottery Barn\, H&amp\;M\, Dick&rsquo\;s Sporting Goods and over 70 specialty shops and dining options. For more information\, please contact Cathy Charhut at 630-262-0044 or <a href="mailto:ccharhut@midamericagrp.com">ccharhut@midamericagrp.com</a>.</span></em><br />\n<strong><u><span style="font-size: 11pt\;">Photos from Fall Fest 2018:</span></u></strong><br />\n<span style="font-size: 11pt\;"><a href="https://shopgenevacommons.com/wp-content/uploads/2019/09/FF2018_pumpkin-painting.jpg">https://shopgenevacommons.com/wp-content/uploads/2019/09/FF2018_pumpkin-painting.jpg</a></span><br />\n&nbsp\;<br />\n<span style="font-size: 11pt\;"><a href="https://shopgenevacommons.com/wp-content/uploads/2019/09/FF2018_sad-dinosaur.jpg">https://shopgenevacommons.com/wp-content/uploads/2019/09/FF2018_sad-dinosaur.jpg</a></span><br />\n&nbsp\;<br />\n<strong><u><span style="font-family: arial\,sans-serif\;"><span style="font-size: 11pt\;">WEB LINK:</span></span></u></strong><br />\n<span style="font-family: arial\,sans-serif\;"><span style="font-size: 11pt\;"><a href="http://www.shopgenevacommons.com/">www.ShopGenevaCommons.com</a></span></span><br />\n&nbsp\;<br />\n&nbsp\;<br />\n<strong><u><span style="font-family: arial\,sans-serif\;"><span style="font-size: 11pt\;">PRESS CONTACT</span></span></u></strong><span style="font-family: arial\,sans-serif\;"><span style="font-size: 11pt\;"> representing Geneva Commons</span></span><br />\n<span style="font-family: arial\,sans-serif\;"><span style="font-size: 11pt\;">&nbsp\;&nbsp\;&nbsp\;&nbsp\; Kasia Yuska</span></span><br />\n<span style="font-family: arial\,sans-serif\;"><span style="font-size: 11pt\;">&nbsp\;&nbsp\;&nbsp\;&nbsp\; <a href="mailto:kyuska@dodier.com">kyuska@dodier.com</a></span></span><br />\n<span style="font-family: arial\,sans-serif\;"><span style="font-size: 11pt\;">&nbsp\;&nbsp\;&nbsp\;&nbsp\; DODIER &amp\; COMPANY </span></span><br />\n<span style="font-family: arial\,sans-serif\;"><span style="font-size: 11pt\;">&nbsp\;&nbsp\;&nbsp\;&nbsp\;&nbsp\;(800) 970-7392 or (520) 299-1000</span></span><br />\n&nbsp\;<br />\n&nbsp\;
LOCATION:Geneva Commons\, located on Randall Road at Williamsburg Avenue in Geneva\, Illinois.
UID:e.246.40792
SEQUENCE:3
DTSTAMP:20260426T003952Z
URL:https://members.genevachamber.com/events/details/fall-fest-40792
END:VEVENT

END:VCALENDAR
