BEGIN:VCALENDAR
VERSION:2.0
PRODID:-//ChamberMaster//Event Calendar 2.0//EN
METHOD:PUBLISH
X-PUBLISHED-TTL:P3D
REFRESH-INTERVAL:P3D
CALSCALE:GREGORIAN
BEGIN:VEVENT
DTSTART:20191013T010000Z
DTEND:20191013T030000Z
X-MICROSOFT-CDO-ALLDAYEVENT:FALSE
SUMMARY:Dancing Queen\, A Tribute to ABBA on the Mainstage
DESCRIPTION:Presented by Mainstagetix.com. Dancing Queen\, A Tribute To ABBA is quite literally the most accurate ABBA tribute band in the country. With painstaking attention to detail\, we've recreated an ABBA experience that won't soon be forgotten. Fronted by two dynamic ladies with angelic voices\, and backed by a group of world class musicians\, the music of the greatest pop band in history comes to life in a Las Vegas type show that mesmerizes the viewer\, young and old alike.
X-ALT-DESC;FMTTYPE=text/html:<span style="color:rgb(61\, 61\, 61)\; font-family:fira-sans-condensed\; font-size:15px">Presented by Mainstagetix.com. Dancing Queen\, A Tribute To ABBA is quite literally the most accurate ABBA tribute band in the country. With painstaking attention to detail\, we&#39\;ve recreated an ABBA experience that won&#39\;t soon be forgotten. Fronted by two dynamic ladies with angelic voices\, and backed by a group of world class musicians\, the music of the greatest pop band in history comes to life in a Las Vegas type show that mesmerizes the viewer\, young and old alike.</span>
LOCATION:Pheasant Run Resort's Mainstage Theater 4051 E. Main St. ?St. Charles\, IL
UID:e.246.39325
SEQUENCE:3
DTSTAMP:20260425T171017Z
URL:https://members.genevachamber.com/events/details/dancing-queen-a-tribute-to-abba-on-the-mainstage-39325
END:VEVENT

END:VCALENDAR
