BEGIN:VCALENDAR
VERSION:2.0
PRODID:-//ChamberMaster//Event Calendar 2.0//EN
METHOD:PUBLISH
X-PUBLISHED-TTL:P3D
REFRESH-INTERVAL:P3D
CALSCALE:GREGORIAN
BEGIN:VEVENT
DTSTART:20240404T180000Z
DTEND:20240404T220000Z
X-MICROSOFT-CDO-ALLDAYEVENT:FALSE
SUMMARY:Coffee\, Cookies and shopping following CASA Kane County's Hands Around the Courthouse (HATCH)/J.McLaughlin Geneva
DESCRIPTION:Following CASA Kane County Hands Around the Court House make yourself at home at the JMcLaughlin in Geneva and enjoy complimentary coffee and cookies while shopping.  15% of sales benefit CASA Kane County\, Court Appointed Special Advocates who are the voice of children in foster care.
X-ALT-DESC;FMTTYPE=text/html:Following CASA Kane County Hands Around the Court House make yourself at home at the JMcLaughlin in Geneva and enjoy complimentary coffee and cookies while shopping.&nbsp\; 15% of sales benefit CASA Kane County\, Court Appointed Special Advocates who are the voice of children in foster care.&nbsp\;&nbsp\;
LOCATION:J. McLaughlin 29 South Third Street Geneva\, Illinois 60134
UID:e.246.58860
SEQUENCE:3
DTSTAMP:20260422T083654Z
URL:https://members.genevachamber.com/events/details/coffee-cookies-and-shopping-following-casa-kane-county-s-hands-around-the-courthouse-hatch-j-mclaughlin-geneva-58860
END:VEVENT

END:VCALENDAR
