BEGIN:VCALENDAR
VERSION:2.0
PRODID:-//ChamberMaster//Event Calendar 2.0//EN
METHOD:PUBLISH
X-PUBLISHED-TTL:P3D
REFRESH-INTERVAL:P3D
CALSCALE:GREGORIAN
BEGIN:VEVENT
DTSTART:20240901T160000Z
DTEND:20240902T233000Z
X-MICROSOFT-CDO-ALLDAYEVENT:FALSE
SUMMARY:48th Annual Fox Valley Folk Music and Storytelling Festival on Wheeler Park on September 1st & 2nd\, 2024
DESCRIPTION:48th Annual Fox Valley Folk & Storytelling Festival\n\nWheeler Park\n\n\nSunday\, September 1st & Monday\, September 2nd\, 2024\n\n\nMinimum Suggested Admission or Free Will Donation\n\n11:00 a.m.- 6:00 p.m. each day with additional evening events on Sunday Sept 1st\, 2024\n\n \n\nFor nearly 50 years\, the Fox Valley Folklore Society\, has been bringing local\, national\, and international talent to the Western Suburbs and this years Festival promises the same!!  Bask in the glory of the last summer holiday weekend listening to live music with 15 Featured Performers and other musical artists. Six stages run continuously\, with choices of mini-concerts\, storytelling\, and topical & hands-on workshops\, as well as a Kids Zone with music and craft activities that is co-sponsored with American Science and Surplus. Stroll through an Arts area and updated Children's Tent or bring your instrument to play along.  Twirl at the old-fashioned Barn Dance then thrill to some spine-tingling tales as the crickets and train whistles blow through the dark. Join us on Labor Day Sunday and Monday for a weekend full of fun for the whole family!  Sponsored by the Fox Valley Folklore Society and the Geneva Park District.
X-ALT-DESC;FMTTYPE=text/html:<div><span style="font-size:14px"><strong>48th Annual Fox Valley Folk &amp\; Storytelling Festival</strong></span></div>\n\n<div><span style="font-size:14px"><strong>Wheeler Park</strong></span></div>\n\n<div>\n<div><span style="font-size:14px"><strong>Sunday\, September 1st &amp\; Monday\, September 2nd\, 2024</strong></span></div>\n</div>\n\n<div><em><span style="font-size:14px">Minimum Suggested Admission or Free Will Donation</span></em></div>\n\n<div><em><span style="font-size:14px">11:00 a.m.- 6:00 p.m. each day with additional evening events on Sunday Sept 1st\, 2024</span></em><br />\n&nbsp\;</div>\n\n<div><span style="font-size:14px"><span style="color:#333333"><span style="font-family:helveticaneue">For nearly&nbsp\;50 years\, the Fox Valley Folklore Society\, has been bringing local\, national\, and international talent to the Western Suburbs and this years Festival promises the same!! &nbsp\;</span></span><span style="font-family:helveticaneue">Bask in the glory of the last summer holiday weekend listening to live music with 15 Featured Performers and other musical artists.&nbsp\;</span><span style="color:#333333"><span style="font-family:helveticaneue">Six stages run continuously\, with choices of mini-concerts\, storytelling\, and topical &amp\; hands-on workshops\, as well as a Kids Zone with music and craft activities that is co-sponsored with American Science and Surplus.&nbsp\;</span></span><span style="font-family:helveticaneue">Stroll through an Arts area and updated Children&#39\;s Tent or bring your instrument to play along. &nbsp\;Twirl at the old-fashioned Barn Dance then thrill to some spine-tingling tales as the crickets and train whistles blow through the dark.&nbsp\;</span><span style="color:#333333"><span style="font-family:helveticaneue">Join us on Labor Day Sunday and Monday for a weekend full of fun for the whole family! &nbsp\;</span></span><span style="font-family:helveticaneue">Sponsored by the&nbsp\;</span><span style="font-family:helvetica"><a href="https://fox-valley-folklore-society.square.site/" target="_blank"><span style="color:#196ad4"><span style="font-family:helveticaneue">Fox Valley Folklore Society&nbsp\;</span></span></a></span><span style="font-family:helveticaneue">and the</span><span style="font-family:helvetica"><a href="https://www.genevaparks.org/" target="_blank"><span style="color:#196ad4"><span style="font-family:helveticaneue">&nbsp\;Geneva Park District</span></span></a></span><span style="font-family:helveticaneue">.&nbsp\;</span></span><br />\n&nbsp\;<br />\n&nbsp\;</div>\n\n<p><span style="font-size:14px"><span style="font-family:arial\,helvetica\,sans-serif">&nbsp\;&nbsp\;</span></span><br />\n&nbsp\;</p>\n
LOCATION:RELOCATED: Beautiful WHEELER PARK 822 North 1st in Geneva\, IL Public and ADA Parking Available
UID:e.246.57898
SEQUENCE:3
DTSTAMP:20260422T122029Z
URL:https://members.genevachamber.com/events/details/48th-annual-fox-valley-folk-music-and-storytelling-festival-on-wheeler-park-on-september-1st-2nd-2024-57898
END:VEVENT

END:VCALENDAR
