BEGIN:VCALENDAR
VERSION:2.0
PRODID:-//ChamberMaster//Event Calendar 2.0//EN
METHOD:PUBLISH
X-PUBLISHED-TTL:P3D
REFRESH-INTERVAL:P3D
CALSCALE:GREGORIAN
BEGIN:VEVENT
DTSTART:20241005T220000Z
DTEND:20241006T010000Z
X-MICROSOFT-CDO-ALLDAYEVENT:FALSE
SUMMARY:CASA Kane County's 3rd Annual Bourbon Social
DESCRIPTION:Join us for our third annual Bourbon Social! Immerse yourself in the world of Bourbon. Enjoy a night of bourbon tasting\, delicious food\, and great music\, all while making a meaningful impact in our community.\n\nVIP attendees will enjoy:\n\n	1 hour of private tasting time from 4-5 pm\n	A selection of 30+ "true unicorn" bottles in addition to the general admission menu\n	Event souvenir\n	Limited edition glass\n	Tasting guide and toe\n	Food\, wine\, and soft drinks\n	Access to cigar lounge\n	Live Music\n\n**Only 130 VIP tickets are available** \n\nFrom 5-8 pm general admission attendees will enjoy\n\n\n	Tastings of 30+ bottles\n	Limited edition glass\n	Tasting guide and tote\n	Food\, wine and soft drinks\n	Access to cigar lounge\n	Live Music\n\n**Must be 21 and older**
X-ALT-DESC;FMTTYPE=text/html:<span style="font-family:arial\,sans-serif"><span style="font-size:10.0pt">Join us for our third annual Bourbon Social! Immerse yourself in the world of Bourbon. Enjoy a night of bourbon tasting\, delicious food\, and great music\, all while making a meaningful impact in our community.</span></span><br />\n<span style="font-family:arial\,sans-serif"><span style="font-size:10.0pt">VIP attendees will enjoy:</span></span>\n<ul>\n	<li><span style="font-family:arial\,sans-serif"><span style="font-size:10.0pt">1 hour of private tasting time from 4-5 pm</span></span></li>\n	<li><span style="font-family:arial\,sans-serif"><span style="font-size:10.0pt">A selection of 30+ &ldquo\;true unicorn&rdquo\; bottles <em>in addition</em> to the general admission menu</span></span></li>\n	<li><span style="font-family:arial\,sans-serif"><span style="font-size:10.0pt">Event souvenir</span></span></li>\n	<li><span style="font-family:arial\,sans-serif"><span style="font-size:10.0pt">Limited edition glass</span></span></li>\n	<li><span style="font-family:arial\,sans-serif"><span style="font-size:10.0pt">Tasting guide and toe</span></span></li>\n	<li><span style="font-family:arial\,sans-serif"><span style="font-size:10.0pt">Food\, wine\, and soft drinks</span></span></li>\n	<li><span style="font-family:arial\,sans-serif"><span style="font-size:10.0pt">Access to cigar lounge</span></span></li>\n	<li><span style="font-family:arial\,sans-serif"><span style="font-size:10.0pt">Live Music</span></span></li>\n</ul>\n<span style="font-family:arial\,sans-serif"><span style="font-size:10.0pt">**Only 130 VIP tickets are available** </span></span><br />\n<span style="font-family:arial\,sans-serif"><span style="font-size:10.0pt">From 5-8 pm general admission attendees will enjoy</span></span>\n\n<ul>\n	<li><span style="font-family:arial\,sans-serif"><span style="font-size:10.0pt">Tastings of 30+ bottles</span></span></li>\n	<li><span style="font-family:arial\,sans-serif"><span style="font-size:10.0pt">Limited edition glass</span></span></li>\n	<li><span style="font-family:arial\,sans-serif"><span style="font-size:10.0pt">Tasting guide and tote</span></span></li>\n	<li><span style="font-family:arial\,sans-serif"><span style="font-size:10.0pt">Food\, wine and soft drinks</span></span></li>\n	<li><span style="font-family:arial\,sans-serif"><span style="font-size:10.0pt">Access to cigar lounge</span></span></li>\n	<li><span style="font-family:arial\,sans-serif"><span style="font-size:10.0pt">Live Music</span></span></li>\n</ul>\n<strong><span style="font-family:arial\,sans-serif"><span style="font-size:10.0pt">**Must be 21 and older**</span></span></strong>
LOCATION:Liquor 'n' Wine\, Saint Charles IL 60175
UID:e.246.58942
SEQUENCE:3
DTSTAMP:20260420T092438Z
URL:https://members.genevachamber.com/events/details/3rd-annual-bourbon-social-58942
END:VEVENT

END:VCALENDAR
